BEGIN:VCALENDAR
VERSION:2.0
PRODID:-//AIA Central Pennsylvania - ECPv6.15.20//NONSGML v1.0//EN
CALSCALE:GREGORIAN
METHOD:PUBLISH
X-WR-CALNAME:AIA Central Pennsylvania
X-ORIGINAL-URL:https://aiacentralpa.org
X-WR-CALDESC:Events for AIA Central Pennsylvania
REFRESH-INTERVAL;VALUE=DURATION:PT1H
X-Robots-Tag:noindex
X-PUBLISHED-TTL:PT1H
BEGIN:VTIMEZONE
TZID:America/New_York
BEGIN:DAYLIGHT
TZOFFSETFROM:-0500
TZOFFSETTO:-0400
TZNAME:EDT
DTSTART:20180311T070000
END:DAYLIGHT
BEGIN:STANDARD
TZOFFSETFROM:-0400
TZOFFSETTO:-0500
TZNAME:EST
DTSTART:20181104T060000
END:STANDARD
BEGIN:DAYLIGHT
TZOFFSETFROM:-0500
TZOFFSETTO:-0400
TZNAME:EDT
DTSTART:20190310T070000
END:DAYLIGHT
BEGIN:STANDARD
TZOFFSETFROM:-0400
TZOFFSETTO:-0500
TZNAME:EST
DTSTART:20191103T060000
END:STANDARD
BEGIN:DAYLIGHT
TZOFFSETFROM:-0500
TZOFFSETTO:-0400
TZNAME:EDT
DTSTART:20200308T070000
END:DAYLIGHT
BEGIN:STANDARD
TZOFFSETFROM:-0400
TZOFFSETTO:-0500
TZNAME:EST
DTSTART:20201101T060000
END:STANDARD
END:VTIMEZONE
BEGIN:VEVENT
DTSTART;TZID=America/New_York:20190530T130000
DTEND;TZID=America/New_York:20190530T150000
DTSTAMP:20260420T035742
CREATED:20190513T160633Z
LAST-MODIFIED:20190513T162811Z
UID:10000786-1559221200-1559228400@aiacentralpa.org
SUMMARY:Made in PA Series - Volume 3 | High Steel
DESCRIPTION:  \n\nAIA Central PA is proud to bring you volume three of the MADE IN PA SERIES. MADE IN PA is a series of tours through Central PA facilities that produce building products that we in the construction industry specify daily-giving you a behind the scenes look at the manufacturing process. If you have an idea for a plant or factory tour please email Kelsey Leed at kleed@cra-architects.com. Registration is open below. \n\nAbout \nThe event will include a presentation and a tour at High Steel in Lancaster. The presentation will describe: \n\nWho High Steel and the High Companies are\, with a brief history\nHigh Steel’s manufacturing process of steel structural elements\, particularly bridges\, with emphasis on fabrication technologies and constraints associated with achieving project schedules\nFollowing the presentation\, there will be a tour of High Steel’s manufacturing facilities. Attendees will observe the processes of receipt and preparation of material; cutting\, welding\, assembly\, drilling and painting of structural members; and fit verification. The tour will also visit High Steel’s education facility\, where participants will weld.\n\nDress Code Safety Requirements\nClosed toed shoes and long pants – no shorts or skirts. \nAgenda\n\n1 pm – 2 pm | Lunch with CEU Presentation\n2 pm – 3 pm | Plant Tour\n\nHighlights\n\nAIA Credit\nFree to attend\n\nRegister below\n\n\n                \n                        Name*\n                            \n                            \n                                                    \n                                                    First\n                                                \n                            \n                            \n                                                    \n                                                    Last\n                                                \n                            \n                        Email*\n                            \n                        Firm/Organization Affiliation*\n					\n				Title*Are you an AIA Central PA member or Allied Member?*\n			\n				\n				Yes\, I'm an Associate or Architect member of AIA Central PA\n			\n			\n				\n				Yes\, my organization is an allied member of AIA Central PA\n			\n			\n				\n				No\, but I'm interested in getting my organization involved as an Allied member\n			\n			\n				\n				No\, but I'm interested in joining as an Associate or Architect member of AIA Central PA\n			Please enter your AIA Member Number*Please check the events you plan to attend on May 30*\n								\n								1 pm - 2 pm | Lunch with CEU Presentation\n							\n								\n								2 pm - 3 pm | Plant Tour
URL:https://aiacentralpa.org/event/made-in-pa-series-volume-3-high-steel/
LOCATION:High Steel\, 1915 Old Philadelphia Pike\, Lancaster\, PA\, 17602\, United States
END:VEVENT
END:VCALENDAR