BEGIN:VCALENDAR
VERSION:2.0
PRODID:-//AIA Central Pennsylvania - ECPv6.15.20//NONSGML v1.0//EN
CALSCALE:GREGORIAN
METHOD:PUBLISH
X-WR-CALNAME:AIA Central Pennsylvania
X-ORIGINAL-URL:https://aiacentralpa.org
X-WR-CALDESC:Events for AIA Central Pennsylvania
REFRESH-INTERVAL;VALUE=DURATION:PT1H
X-Robots-Tag:noindex
X-PUBLISHED-TTL:PT1H
BEGIN:VTIMEZONE
TZID:America/New_York
BEGIN:DAYLIGHT
TZOFFSETFROM:-0500
TZOFFSETTO:-0400
TZNAME:EDT
DTSTART:20250309T070000
END:DAYLIGHT
BEGIN:STANDARD
TZOFFSETFROM:-0400
TZOFFSETTO:-0500
TZNAME:EST
DTSTART:20251102T060000
END:STANDARD
BEGIN:DAYLIGHT
TZOFFSETFROM:-0500
TZOFFSETTO:-0400
TZNAME:EDT
DTSTART:20260308T070000
END:DAYLIGHT
BEGIN:STANDARD
TZOFFSETFROM:-0400
TZOFFSETTO:-0500
TZNAME:EST
DTSTART:20261101T060000
END:STANDARD
BEGIN:DAYLIGHT
TZOFFSETFROM:-0500
TZOFFSETTO:-0400
TZNAME:EDT
DTSTART:20270314T070000
END:DAYLIGHT
BEGIN:STANDARD
TZOFFSETFROM:-0400
TZOFFSETTO:-0500
TZNAME:EST
DTSTART:20271107T060000
END:STANDARD
END:VTIMEZONE
BEGIN:VEVENT
DTSTART;TZID=America/New_York:20260520T190000
DTEND;TZID=America/New_York:20260520T210000
DTSTAMP:20260423T114222
CREATED:20251119T143646Z
LAST-MODIFIED:20260415T205302Z
UID:10000905-1779303600-1779310800@aiacentralpa.org
SUMMARY:AIA Central PA Spring Lecture 2026
DESCRIPTION:AIA CENTRAL PA SPRING LECTURE\nFeaturing | Marlon Blackwell\, FAIA\nWednesday\, May 20\, 2026\n7pm | Followed by a Social Hour\nWest Shore Theater | 317 Bridge St\, New Cumberland\, PA  17070 \n1 AIA LU \n \nMarlon Blackwell is an American architect and university professor in Arkansas. He is a Fellow of the American Institute of Architects. He is founder and principal at Marlon Blackwell Architects\, a design firm established in 1992 in Fayetteville. Blackwell is the E. Fay Jones Chair in Architecture and a Distinguished Professor in the Fay Jones School of Architecture and Design at the University of Arkansas in Fayetteville. \nBlackwell is the recipient of numerous awards and honors\, including the 2020 AIA Gold Medal\, the 2020 Southeastern Conference Professor of the Year\, and the 2016 National Design Award for Architecture Design from Cooper-Hewitt\, Smithsonian Design Museum. In 2014\, he was named a United States Artists Ford Fellow (in Architecture and Design). In 2012\, he received the Architecture Prize from the American Academy of Arts and Letters. In 2023 Blackwell was elected as a member to the American Academy of Arts & Sciences. \nBlackwell was inducted into the National Academy of Design in 2018. He was the William A. Bernoudy Architect in Residence at the American Academy in Rome in 2018–2019. He was elected to the American Institute of Architects College of Fellows in 2009. In 1998\, the Architectural League of New York selected him as an “Emerging Voice” in architecture. \nSixteen projects by Blackwell’s firm have been recognized with national awards by The American Institute of Architects (AIA)\, including the AIA Honor Awards for Thaden School (with EskewDumezRipple and Andropogon Associates) (2023)\, The Lamplighter School Innovation Lab (2021)\, Shelby Farms Park (with James Corner Field Operations) (2019)\, Vol Walker Hall-Steven L. Anderson Design Center at the University of Arkansas (2018)\, the Crystal Bridges Museum Store at Crystal Bridges Museum of American Art (2015)\, the Little Rock Creative Corridor (2014)\, St. Nicholas Eastern Orthodox Church (2013)\, and the Ruth Lilly Visitors Pavilion at the Indianapolis Museum of Art (2012). He has won AIA Housing Awards for Graphic House (2017) and L-Stack House (2008). \nREGISTRATION OPEN AND REQUIRED 
URL:https://aiacentralpa.org/event/aia-central-pa-spring-lecture-2026/
LOCATION:West Shore Theater\, 317 Bridge Street\, New Cumberland\, PA\, 17070
ATTACH;FMTTYPE=image/jpeg:https://aiacentralpa.org/wp-content/uploads/2026/01/marlon-blackwell.jpg
END:VEVENT
END:VCALENDAR